BEGIN:VCALENDAR
VERSION:2.0
PRODID:-//MAKA - ECPv6.15.13.1//NONSGML v1.0//EN
CALSCALE:GREGORIAN
METHOD:PUBLISH
X-WR-CALNAME:MAKA
X-ORIGINAL-URL:https://maka.wpsplit.com
X-WR-CALDESC:Events for MAKA
REFRESH-INTERVAL;VALUE=DURATION:PT1H
X-Robots-Tag:noindex
X-PUBLISHED-TTL:PT1H
BEGIN:VTIMEZONE
TZID:UTC
BEGIN:STANDARD
TZOFFSETFROM:+0000
TZOFFSETTO:+0000
TZNAME:UTC
DTSTART:20190101T000000
END:STANDARD
END:VTIMEZONE
BEGIN:VEVENT
DTSTART;VALUE=DATE:20200719
DTEND;VALUE=DATE:20200721
DTSTAMP:20260419T221052
CREATED:20200113T201300Z
LAST-MODIFIED:20200113T201300Z
UID:2538-1595116800-1595289599@maka.wpsplit.com
SUMMARY:Alfaparf Master Colorist Course 2
DESCRIPTION:Alfaparf Master Colorist is a highly sought-after international color program updated with new technology for 2020. This 3-course certification is for serious colorists who want to advance their knowledge and skill. Classes are small & intimate with a maximum of 15 colorists. \nCOURSE 2\nBeyond Reds & Master Blondes\nTHEORY + HANDS-ON \n• Choosing the correct red formulation can be challenging. Adjust tonal quality utilizing natural underlying pigmentation to create benchmark radiant reds.\n• Learn to dene and create bold blonde statements. Perfect the art of blonding using Alfaparf color. \nTuition $499 \nCall MAKA Beauty Systems at 480-968-7980 to register or register at https://shop.makabeauty.com/ \nATTEND ALL 3 COURSES FOR $1200 (Call for package) \nMASTER CERTIFIED COLORISTS MUST COMPLETE ALL 3 COURSES
URL:https://maka.wpsplit.com/education-details/alfaparf-master-colorist-course-2/
LOCATION:MAKA Scottsdale\, 10636 N. 71st Way\, #10-11\, Scottsdale\, 85254\, United States
CATEGORIES:Business Building,Haircolor
END:VEVENT
BEGIN:VEVENT
DTSTART;VALUE=DATE:20201018
DTEND;VALUE=DATE:20201020
DTSTAMP:20260419T221052
CREATED:20200113T202312Z
LAST-MODIFIED:20200113T202330Z
UID:2540-1602979200-1603151999@maka.wpsplit.com
SUMMARY:Alfaparf Master Colorist Course 3
DESCRIPTION:Alfaparf Master Colorist is a highly sought-after international color program updated with new technology for 2020. This 3-course certification is for serious colorists who want to advance their knowledge and skill. Classes are small & intimate with a maximum of 15 colorists. \nCOURSE 3\nColor Correction\nTHEORY + HANDS-ON \n• Be immersed in the art of color correction. Learn how to gain the technical confidence to determine the problem and how to attain the correct solution.\n• What are the problems we deal with in the salon and how did they happen? \nTuition $499 \nCall MAKA Beauty Systems at 480-968-7980 to register or register at https://shop.makabeauty.com/ \nATTEND ALL 3 COURSES FOR $1200 (Call for package) \nMASTER CERTIFIED COLORISTS MUST COMPLETE ALL 3 COURSES
URL:https://maka.wpsplit.com/education-details/alfaparf-master-colorist-course-3/
LOCATION:MAKA Scottsdale\, 10636 N. 71st Way\, #10-11\, Scottsdale\, 85254\, United States
CATEGORIES:Business Building,Haircolor
ATTACH;FMTTYPE=image/jpeg:https://maka.wpsplit.com/files/2019/05/eoc_image.jpg
END:VEVENT
END:VCALENDAR