BEGIN:VCALENDAR
VERSION:2.0
PRODID:-//MAKA - ECPv6.15.13.1//NONSGML v1.0//EN
CALSCALE:GREGORIAN
METHOD:PUBLISH
X-ORIGINAL-URL:https://maka.wpsplit.com
X-WR-CALDESC:Events for MAKA
REFRESH-INTERVAL;VALUE=DURATION:PT1H
X-Robots-Tag:noindex
X-PUBLISHED-TTL:PT1H
BEGIN:VTIMEZONE
TZID:UTC
BEGIN:STANDARD
TZOFFSETFROM:+0000
TZOFFSETTO:+0000
TZNAME:UTC
DTSTART:20190101T000000
END:STANDARD
END:VTIMEZONE
BEGIN:VEVENT
DTSTART;TZID=UTC:20200323T093000
DTEND;TZID=UTC:20200323T133000
DTSTAMP:20260420T043419
CREATED:20200303T183927Z
LAST-MODIFIED:20200303T183927Z
UID:2616-1584955800-1584970200@maka.wpsplit.com
SUMMARY:In-Store Shear Sharpening at MAKA
DESCRIPTION:Shear Joy is one the highest rated companies in the country and are preferred sharpeners for ALL shear manufacturers. Shear Joy proudly sharpens by hand\, using HiraTo and SciMech Sharpening Systems to assure the finest edges possible while removing very little metal. \nHave your shears sharpened while you wait! Save $10 off regular price! \nCost $20
URL:https://maka.wpsplit.com/education-details/in-store-shear-sharpening-at-maka-2/
LOCATION:MAKA Chandler\, 4042 W. Kitty Hawk\, Chandler\, AZ\, 85226\, United States
CATEGORIES:Special Events
ATTACH;FMTTYPE=image/jpeg:https://maka.wpsplit.com/files/2020/03/shear_sharpening-1.jpg
END:VEVENT
BEGIN:VEVENT
DTSTART;TZID=UTC:20200323T100000
DTEND;TZID=UTC:20200323T120000
DTSTAMP:20260420T043419
CREATED:20191022T202433Z
LAST-MODIFIED:20200214T214215Z
UID:2487-1584957600-1584964800@maka.wpsplit.com
SUMMARY:Brazilian Blowout Become a 6 Figure Stylist
DESCRIPTION:Grab your besties for this Brazilian Blowout event!\n\n\n \n\n\nLook and Learn Demonstrations of the Brazilian Blowout smoothing system on live models\, see what’s new from Brazilian Professional and experience their full portfolio of products.\n\n\n \n\n\nTuition is FREE but registration is required.\n\n\n \n\n\nCall MAKA at 480-968-7980 to register or register at https://shop.makabeauty.com/account/login!
URL:https://maka.wpsplit.com/education-details/brazilian-blowout-become-a-6-figure-stylist/
LOCATION:MAKA Glendale\, 5930 W. Greenway Road Suite 12\, Glendale\,\, AZ\, 85306\, United States
CATEGORIES:Retexturizing
ATTACH;FMTTYPE=image/jpeg:https://maka.wpsplit.com/files/2019/04/bb_six_figure.jpg
END:VEVENT
BEGIN:VEVENT
DTSTART;TZID=UTC:20200323T100000
DTEND;TZID=UTC:20200323T130000
DTSTAMP:20260420T043419
CREATED:20200113T182435Z
LAST-MODIFIED:20200113T182435Z
UID:2525-1584957600-1584968400@maka.wpsplit.com
SUMMARY:amika Brooklyn Brides
DESCRIPTION:Think wedding hair\, the Brooklyn way \nThis course takes a modern spin on wedding day updos\, teaching styles for the more sophisticated woman who prefers fabulous over fancy\, and cool over classic. Approachable\, yet advanced techniques are used to combine runway chic and effortless glam to create looks that suit today’s contemporary bride. \nTuition $50 \nCall MAKA Beauty Systems at 480-968-7980 to register or register at https://shop.makabeauty.com/
URL:https://maka.wpsplit.com/education-details/amika-brooklyn-brides-4/
LOCATION:MAKA Chandler\, 4042 W. Kitty Hawk\, Chandler\, AZ\, 85226\, United States
CATEGORIES:Styling,Trends & Techniques,Upstyling
END:VEVENT
BEGIN:VEVENT
DTSTART;TZID=UTC:20200323T100000
DTEND;TZID=UTC:20200323T130000
DTSTAMP:20260420T043419
CREATED:20200113T213707Z
LAST-MODIFIED:20200113T213707Z
UID:2560-1584957600-1584968400@maka.wpsplit.com
SUMMARY:L'ANZA Shape Shifting Cuts
DESCRIPTION:Presented by Daisy Lebron \nLearn techniques to help you to grow confidence in haircutting\, no matter the texture and type. Explore how each design element connects to get that final look. Leave this class understanding the basic principles in building a precision haircut. \nTuition $20 \nCall MAKA Beauty Systems at 480-968-7980 to register or register at https://shop.makabeauty.com/
URL:https://maka.wpsplit.com/education-details/lanza-shape-shifting-cuts-4/
LOCATION:MAKA Albuquerque\, 2511 San Mateo Blvd NE\, Albuquerque\, 87110\, United States
CATEGORIES:Cutting Techniques,Trends & Techniques
END:VEVENT
BEGIN:VEVENT
DTSTART;TZID=UTC:20200323T100000
DTEND;TZID=UTC:20200323T130000
DTSTAMP:20260420T043419
CREATED:20200113T221902Z
LAST-MODIFIED:20200113T221902Z
UID:2574-1584957600-1584968400@maka.wpsplit.com
SUMMARY:IGORA Classic & #MoreVibrance
DESCRIPTION:Dive into Schwarzkopf’s IGORA color portfolios \nYou’ll discover the unique color families of IGORA color brands\, how they work and how to utilize them successfully. Join us as we share a full overview of IGORA ROYAL and IGORA VIBRANCE including the newest range of shades to join the IGORA portfolio\, IGORA RAW ESSENTIALS. Each attendee will also have the chance to use these new shades during our “hands in” segment while coloring hair swatches! \nTuition $25 \nFor tickets please call 844-827-5338 or email ASKEducationUSA@Henkel.com
URL:https://maka.wpsplit.com/education-details/igora-classic-morevibrance/
LOCATION:MAKA Ogden Riverdale\, 4520 S. 900 W.\, Riverdale\, UT\, 84405\, United States
CATEGORIES:Cutting Techniques,Trends & Techniques
ATTACH;FMTTYPE=image/jpeg:https://maka.wpsplit.com/files/2018/05/vibrance_small.jpg
ORGANIZER;CN="Schwarzkopf Professional":MAILTO:ASKEducationUSA@Henkel.com
END:VEVENT
BEGIN:VEVENT
DTSTART;TZID=UTC:20200323T100000
DTEND;TZID=UTC:20200323T140000
DTSTAMP:20260420T043419
CREATED:20200113T210148Z
LAST-MODIFIED:20200113T210148Z
UID:2552-1584957600-1584972000@maka.wpsplit.com
SUMMARY:Italian Balayage
DESCRIPTION:Balayage & Seamless Blends from Alfaparf Milano \nAn Italian take on the craft of balayage. This approach focuses on creating the end result of a balayage through the most efficient road map. Each approach is focused on combining precision lifting\, blended saturation techniques\, while also maintaining the integrity of the hair and providing maximum toner longevity. \nTuition $25 \nCall MAKA Beauty Systems at 480-968-7980 to register or register at https://shop.makabeauty.com/
URL:https://maka.wpsplit.com/education-details/italian-balayage-4/
LOCATION:MAKA Las Vegas at Russell\, 6825 W. Russell Road\, Las Vegas\, NV\, 89118\, United States
CATEGORIES:Haircolor,Trends & Techniques
END:VEVENT
BEGIN:VEVENT
DTSTART;TZID=UTC:20200323T100000
DTEND;TZID=UTC:20200323T170000
DTSTAMP:20260420T043419
CREATED:20200303T193004Z
LAST-MODIFIED:20200303T193004Z
UID:2628-1584957600-1584982800@maka.wpsplit.com
SUMMARY:Solutions Using Babe
DESCRIPTION:AM Tape-In/Beaded 10A-1P\nPM Fusion/Microfusion 2P-5P \nGrow your services by offering solutions your clients need! Babe’s individual method courses allow for hands-in learning and applications. In these courses you will learn installation\, removal\, cutting and blending\, proper client maintenance for longevity as well as discuss pricing and marketing. \nTuition is $50 per session OR attend both AM/PM classes on the same date for $75! \nCall MAKA at 480-968-7980 or visit https://shop.makabeauty.com/ to register.
URL:https://maka.wpsplit.com/education-details/solutions-using-babe-2/
LOCATION:MAKA Scottsdale\, 10636 N. 71st Way\, #10-11\, Scottsdale\, 85254\, United States
CATEGORIES:Business Building,Cutting Techniques,Trends & Techniques
ATTACH;FMTTYPE=image/jpeg:https://maka.wpsplit.com/files/2020/03/babe_fusion.jpg
END:VEVENT
BEGIN:VEVENT
DTSTART;TZID=UTC:20200323T140000
DTEND;TZID=UTC:20200323T170000
DTSTAMP:20260420T043419
CREATED:20200113T215952Z
LAST-MODIFIED:20200113T215952Z
UID:2566-1584972000-1584982800@maka.wpsplit.com
SUMMARY:Presented in Spanish: L'ANZA Shape Shifting Cuts
DESCRIPTION:Presented by Daisy Lebron \nLearn techniques to help you to grow confidence in haircutting\, no matter the texture and type. Explore how each design element connects to get that final look. Leave this class understanding the basic principles in building a precision haircut. \nTuition $20 \nCall MAKA Beauty Systems at 480-968-7980 to register or register at https://shop.makabeauty.com/
URL:https://maka.wpsplit.com/education-details/presented-in-spanish-lanza-shape-shifting-cuts-3/
LOCATION:MAKA Albuquerque\, 2511 San Mateo Blvd NE\, Albuquerque\, 87110\, United States
CATEGORIES:Cutting Techniques,Trends & Techniques
END:VEVENT
END:VCALENDAR