BEGIN:VCALENDAR
VERSION:2.0
PRODID:-//MAKA - ECPv6.15.13.1//NONSGML v1.0//EN
CALSCALE:GREGORIAN
METHOD:PUBLISH
X-WR-CALNAME:MAKA
X-ORIGINAL-URL:https://maka.wpsplit.com
X-WR-CALDESC:Events for MAKA
REFRESH-INTERVAL;VALUE=DURATION:PT1H
X-Robots-Tag:noindex
X-PUBLISHED-TTL:PT1H
BEGIN:VTIMEZONE
TZID:UTC
BEGIN:STANDARD
TZOFFSETFROM:+0000
TZOFFSETTO:+0000
TZNAME:UTC
DTSTART:20190101T000000
END:STANDARD
END:VTIMEZONE
BEGIN:VEVENT
DTSTART;VALUE=DATE:20200315
DTEND;VALUE=DATE:20200317
DTSTAMP:20260420T060826
CREATED:20200113T175616Z
LAST-MODIFIED:20200113T175616Z
UID:2517-1584230400-1584403199@maka.wpsplit.com
SUMMARY:Babe Things Mastery Tour Class
DESCRIPTION:NOW INCLUDES WEFT CERTIFICATION!Are you ready to increase opportunities to help your existing clients by offering them thinning hair\, volumizing and age related solutions? This course is the program designed just for that! Official certification from Babe Hair Extensions in:I-Tip\, Flat Tip\, Tape-In\, Fusion & Hand Tied Weft applications! • One-on-one professional attention from a team of experienced educators • A comprehensive Master Kit with $525 worth of tools • The confidence and skills you need for a flourishing hair extension practice in your salon Tuition $499* (Includes a comprehensive Master Kit with $525 worth of tools and lunch on both days)Deluxe Kit Includes: Quick Pick\,Loop Tool\, Deluxe Tool\, Classic Tool\, Melting Connector\, Protective Discs\, Velcro Hair Grippers\, Fusion Bond Cutter\, Swatch Ring\, Replacement & Single Sided Tape\, TapeIn & Keratin Bond Remover\, Re-bonds\, Silicone Beads\, Sewing Needles\, Thread\, Stork Shears\, Small Clips\, Weft Adhesive & Practice Hair For All Methods.Schedule: 10A-5P on both daysCall MAKA Beauty Systems at 480-968-7980 to register or register at https://shop.makabeauty.com/
URL:https://maka.wpsplit.com/education-details/babe-things-mastery-tour-class/
LOCATION:MAKA Chandler\, 4042 W. Kitty Hawk\, Chandler\, AZ\, 85226\, United States
CATEGORIES:Business Building,Cutting Techniques,Trends & Techniques
ATTACH;FMTTYPE=image/jpeg:https://maka.wpsplit.com/files/2019/02/babe_solutions.jpg
END:VEVENT
BEGIN:VEVENT
DTSTART;TZID=UTC:20200316T093000
DTEND;TZID=UTC:20200316T133000
DTSTAMP:20260420T060826
CREATED:20200303T183126Z
LAST-MODIFIED:20200303T183126Z
UID:2614-1584351000-1584365400@maka.wpsplit.com
SUMMARY:In-Store Shear Sharpening at MAKA
DESCRIPTION:Shear Joy is one the highest rated companies in the country and are preferred sharpeners for ALL shear manufacturers. Shear Joy proudly sharpens by hand\, using HiraTo and SciMech Sharpening Systems to assure the finest edges possible while removing very little metal. \nHave your shears sharpened while you wait! Save $10 off regular price! \nCost $20
URL:https://maka.wpsplit.com/education-details/in-store-shear-sharpening-at-maka/
LOCATION:MAKA Scottsdale\, 10636 N. 71st Way\, #10-11\, Scottsdale\, 85254\, United States
CATEGORIES:Special Events
END:VEVENT
BEGIN:VEVENT
DTSTART;TZID=UTC:20200316T100000
DTEND;TZID=UTC:20200316T120000
DTSTAMP:20260420T060826
CREATED:20200305T230816Z
LAST-MODIFIED:20200305T230816Z
UID:2670-1584352800-1584360000@maka.wpsplit.com
SUMMARY:Alfaparf Officina del Colore: Evolution of Color Class
DESCRIPTION:Look & Learn | 2 Hour Program \nExperience the basics and ease of use. Learn how to utilize all of Alfaparf Milano’s Color lines: Evolution of the Color\, Color Wear\, Revolution\, BB Bleach\, and Pigments. This look and learn class focuses on the salon’s needs. \nTuition $20 \nCall MAKA Beauty Systems at 480-968-7980 to register or register at https://shop.makabeauty.com/
URL:https://maka.wpsplit.com/education-details/alfaparf-officina-del-colore-evolution-of-color-class/
LOCATION:MAKA Prescott\, 723 E. Gurley Street\, Prescott\, AZ\, 86303\, United States
CATEGORIES:Haircolor
ATTACH;FMTTYPE=image/jpeg:https://maka.wpsplit.com/files/2020/03/ap_officina_image.jpg
END:VEVENT
BEGIN:VEVENT
DTSTART;TZID=UTC:20200316T100000
DTEND;TZID=UTC:20200316T130000
DTSTAMP:20260420T060826
CREATED:20200113T221200Z
LAST-MODIFIED:20200113T221200Z
UID:2570-1584352800-1584363600@maka.wpsplit.com
SUMMARY:Schwarzkopf IGORA Classic & #MoreVibrance
DESCRIPTION:Dive into Schwarzkopf’s IGORA color portfolios \nYou’ll discover the unique color families of IGORA color brands\, how they work and how to utilize them successfully. Join us as we share a full overview of IGORA ROYAL and IGORA VIBRANCE including the newest range of shades to join the IGORA portfolio\, IGORA RAW ESSENTIALS. Each attendee will also have the chance to use these new shades during our “hands in” segment while coloring hair swatches! \nTuition $25 \nFor tickets please call 844-827-5338 or email ASKEducationUSA@Henkel.com
URL:https://maka.wpsplit.com/education-details/schwarzkopf-igora-classic-morevibrance-2/
LOCATION:MAKA Albuquerque\, 2511 San Mateo Blvd NE\, Albuquerque\, 87110\, United States
CATEGORIES:Haircolor,Trends & Techniques
ATTACH;FMTTYPE=image/jpeg:https://maka.wpsplit.com/files/2018/05/vibrance_small.jpg
ORGANIZER;CN="Schwarzkopf Professional":MAILTO:ASKEducationUSA@Henkel.com
END:VEVENT
BEGIN:VEVENT
DTSTART;TZID=UTC:20200316T100000
DTEND;TZID=UTC:20200316T130000
DTSTAMP:20260420T060826
CREATED:20200113T221532Z
LAST-MODIFIED:20200113T221532Z
UID:2572-1584352800-1584363600@maka.wpsplit.com
SUMMARY:Schwarzkopf IGORA Classic & #MoreVibrance
DESCRIPTION:Dive into Schwarzkopf’s IGORA color portfolios \nYou’ll discover the unique color families of IGORA color brands\, how they work and how to utilize them successfully. Join us as we share a full overview of IGORA ROYAL and IGORA VIBRANCE including the newest range of shades to join the IGORA portfolio\, IGORA RAW ESSENTIALS. Each attendee will also have the chance to use these new shades during our “hands in” segment while coloring hair swatches! \nTuition $25 \nFor tickets please call 844-827-5338 or email ASKEducationUSA@Henkel.com
URL:https://maka.wpsplit.com/education-details/schwarzkopf-igora-classic-morevibrance-3/
LOCATION:MAKA Las Vegas at Russell\, 6825 W. Russell Road\, Las Vegas\, NV\, 89118\, United States
CATEGORIES:Cutting Techniques,Trends & Techniques
ATTACH;FMTTYPE=image/jpeg:https://maka.wpsplit.com/files/2018/05/vibrance_small.jpg
ORGANIZER;CN="Schwarzkopf Professional":MAILTO:ASKEducationUSA@Henkel.com
END:VEVENT
BEGIN:VEVENT
DTSTART;TZID=UTC:20200316T100000
DTEND;TZID=UTC:20200316T130000
DTSTAMP:20260420T060826
CREATED:20200114T212054Z
LAST-MODIFIED:20200114T212054Z
UID:2597-1584352800-1584363600@maka.wpsplit.com
SUMMARY:Keratherapy Discovery Tour
DESCRIPTION:Smoothing is not just for curly hair anymore! Learn how to significantly increase your income by offering smoothing services and home care solutions to every client. Curly\, straight or anywhere in-between; Keratherapy has a smoothing solution for everyone with 7 unique in-salon services developed for every budget and desire. Receive a FREE gift valued at $125! \nTuition: $40 \nCall MAKA Beauty Systems at 480-968-7980 to register or register at https://shop.makabeauty.com/
URL:https://maka.wpsplit.com/education-details/keratherapy-discovery-tour-2/
LOCATION:MAKA Scottsdale\, 10636 N. 71st Way\, #10-11\, Scottsdale\, 85254\, United States
CATEGORIES:Retexturizing
ATTACH;FMTTYPE=image/jpeg:https://maka.wpsplit.com/files/2020/01/kt_model_q1.jpg
END:VEVENT
BEGIN:VEVENT
DTSTART;TZID=UTC:20200316T100000
DTEND;TZID=UTC:20200316T160000
DTSTAMP:20260420T060826
CREATED:20200114T000948Z
LAST-MODIFIED:20200114T000948Z
UID:2586-1584352800-1584374400@maka.wpsplit.com
SUMMARY:Lanza's Brant Crosby Hands-on Cut & Color
DESCRIPTION:A master in blonding techniques\, Brant Crosby is based in Omaha\, Nebraska where he provides energetic and interactive classes. Work hands-on with one of L’ANZA’s most up-and-coming artists on some of the brand’s seasonal cut and and color techniques\, with an emphasis on blonding and toning. Class includes working product and lunch. Please bring cutting/styling tools. \nTuition: $95 \nCall MAKA Beauty Systems at 480-968-7980 to register or register at https://shop.makabeauty.com/
URL:https://maka.wpsplit.com/education-details/lanzas-brant-crosby-hands-on-cut-color/
LOCATION:MAKA Glendale\, 5930 W. Greenway Road Suite 12\, Glendale\,\, AZ\, 85306\, United States
CATEGORIES:Haircolor,Special Events,Trends & Techniques
END:VEVENT
BEGIN:VEVENT
DTSTART;TZID=UTC:20200316T100000
DTEND;TZID=UTC:20200316T170000
DTSTAMP:20260420T060826
CREATED:20200303T191057Z
LAST-MODIFIED:20200303T191057Z
UID:2625-1584352800-1584378000@maka.wpsplit.com
SUMMARY:Solutions Using Babe
DESCRIPTION:AM Tape-In/Beaded 10A-1P\nPM Fusion/Microfusion 2P-5P \nGrow your services by offering solutions your clients need! Babe’s individual method courses allow for hands-in learning and applications. In these courses you will learn installation\, removal\, cutting and blending\, proper client maintenance for longevity as well as discuss pricing and marketing. \nTuition is $50 per session OR attend both AM/PM classes on the same date for $75! \nCall MAKA at 480-968-7980 or visit https://shop.makabeauty.com/ to register.
URL:https://maka.wpsplit.com/education-details/solutions-using-babe/
LOCATION:MAKA Tucson\, 3959 E Speedway Blvd Suite #308\, Tucson\, AZ\, 85712\, United States
CATEGORIES:Business Building,Cutting Techniques,Trends & Techniques
ATTACH;FMTTYPE=image/jpeg:https://maka.wpsplit.com/files/2020/03/babe_fusion.jpg
END:VEVENT
END:VCALENDAR