BEGIN:VCALENDAR
VERSION:2.0
PRODID:-//MAKA - ECPv6.15.13.1//NONSGML v1.0//EN
CALSCALE:GREGORIAN
METHOD:PUBLISH
X-ORIGINAL-URL:https://maka.wpsplit.com
X-WR-CALDESC:Events for MAKA
REFRESH-INTERVAL;VALUE=DURATION:PT1H
X-Robots-Tag:noindex
X-PUBLISHED-TTL:PT1H
BEGIN:VTIMEZONE
TZID:UTC
BEGIN:STANDARD
TZOFFSETFROM:+0000
TZOFFSETTO:+0000
TZNAME:UTC
DTSTART:20190101T000000
END:STANDARD
END:VTIMEZONE
BEGIN:VEVENT
DTSTART;TZID=UTC:20200302T100000
DTEND;TZID=UTC:20200302T130000
DTSTAMP:20260420T043433
CREATED:20200113T220834Z
LAST-MODIFIED:20200113T220834Z
UID:2568-1583143200-1583154000@maka.wpsplit.com
SUMMARY:Schwarzkopf IGORA Classic & #MoreVibrance
DESCRIPTION:Dive into Schwarzkopf’s IGORA color portfolios  You’ll discover the unique color families of IGORA color brands\, how they work and how to utilize them successfully. Join us as we share a full overview of IGORA ROYAL and IGORA VIBRANCE including the newest range of shades to join the IGORA portfolio\, IGORA RAW ESSENTIALS. Each attendee will also have the chance to use these new shades during our “hands in” segment while coloring hair swatches!   Tuition $25  For tickets please call 844-827-5338 or email ASKEducationUSA@Henkel.com
URL:https://maka.wpsplit.com/education-details/schwarzkopf-igora-classic-morevibrance/
LOCATION:MAKA Scottsdale\, 10636 N. 71st Way\, #10-11\, Scottsdale\, 85254\, United States
CATEGORIES:Haircolor,Trends & Techniques
ATTACH;FMTTYPE=image/jpeg:https://maka.wpsplit.com/files/2018/05/vibrance_small.jpg
ORGANIZER;CN="Schwarzkopf Professional":MAILTO:ASKEducationUSA@Henkel.com
END:VEVENT
END:VCALENDAR