BEGIN:VCALENDAR
VERSION:2.0
PRODID:-//MAKA - ECPv6.15.13.1//NONSGML v1.0//EN
CALSCALE:GREGORIAN
METHOD:PUBLISH
X-ORIGINAL-URL:https://maka.wpsplit.com
X-WR-CALDESC:Events for MAKA
REFRESH-INTERVAL;VALUE=DURATION:PT1H
X-Robots-Tag:noindex
X-PUBLISHED-TTL:PT1H
BEGIN:VTIMEZONE
TZID:UTC
BEGIN:STANDARD
TZOFFSETFROM:+0000
TZOFFSETTO:+0000
TZNAME:UTC
DTSTART:20190101T000000
END:STANDARD
END:VTIMEZONE
BEGIN:VEVENT
DTSTART;TZID=UTC:20200301T100000
DTEND;TZID=UTC:20200301T180000
DTSTAMP:20260420T024826
CREATED:20191121T013331Z
LAST-MODIFIED:20191121T013331Z
UID:2491-1583056800-1583085600@maka.wpsplit.com
SUMMARY:SAVE THE DATE: Hair for Fun 2020
DESCRIPTION:Save the Date! Hair for Fun is back in 2020 with a more intimate event designed to give you access to today’s top talent in the world of hair design. We’re in a fun new venue and busy putting together a program full of techniques\, tips and tricks that you can use behind the chair. You’re the real star of HAIR FOR FUN 2020 and we can’t wait to see YOU! \nSAVE THE DATE: Sunday\, March 1st\nTicket to include show access and Saguaro catered lunch \nHeadlined by MISAEL APONTE presented by Oligo Professionnnel. \nAdditional artists and programs to be announced soon! Stay tuned for more info on our best ticket offers.
URL:https://maka.wpsplit.com/education-details/save-the-date-hair-for-fun-2020/
LOCATION:The Saguaro Hotel\, 4000 N Drinkwater Blvd\, Scottsdale\, AZ\, 85251\, United States
CATEGORIES:Show
ATTACH;FMTTYPE=image/jpeg:https://maka.wpsplit.com/files/2019/11/hff_2020_savethedate_small.jpg
END:VEVENT
END:VCALENDAR