BEGIN:VCALENDAR
VERSION:2.0
PRODID:-//MAKA - ECPv6.15.13.1//NONSGML v1.0//EN
CALSCALE:GREGORIAN
METHOD:PUBLISH
X-ORIGINAL-URL:https://maka.wpsplit.com
X-WR-CALDESC:Events for MAKA
REFRESH-INTERVAL;VALUE=DURATION:PT1H
X-Robots-Tag:noindex
X-PUBLISHED-TTL:PT1H
BEGIN:VTIMEZONE
TZID:UTC
BEGIN:STANDARD
TZOFFSETFROM:+0000
TZOFFSETTO:+0000
TZNAME:UTC
DTSTART:20190101T000000
END:STANDARD
END:VTIMEZONE
BEGIN:VEVENT
DTSTART;TZID=UTC:20200224T100000
DTEND;TZID=UTC:20200224T130000
DTSTAMP:20260420T024826
CREATED:20200113T181528Z
LAST-MODIFIED:20200113T181528Z
UID:2521-1582538400-1582549200@maka.wpsplit.com
SUMMARY:amika Brooklyn Brides
DESCRIPTION:Think wedding hair\, the Brooklyn way \nThis course takes a modern spin on wedding day updos\, teaching styles for the more sophisticated woman who prefers fabulous over fancy\, and cool over classic. Approachable\, yet advanced techniques are used to combine runway chic and effortless glam to create looks that suit today’s contemporary bride. \nTuition $50 \nCall MAKA Beauty Systems at 480-968-7980 to register or register at https://shop.makabeauty.com/
URL:https://maka.wpsplit.com/education-details/amika-brooklyn-brides-2/
LOCATION:MAKA Prescott\, 723 E. Gurley Street\, Prescott\, AZ\, 86303\, United States
CATEGORIES:Styling,Trends & Techniques,Upstyling
END:VEVENT
BEGIN:VEVENT
DTSTART;TZID=UTC:20200224T100000
DTEND;TZID=UTC:20200224T140000
DTSTAMP:20260420T024826
CREATED:20200114T211254Z
LAST-MODIFIED:20200114T211254Z
UID:2595-1582538400-1582552800@maka.wpsplit.com
SUMMARY:L'ANZA Shape Shifting Cuts & Trending Reds
DESCRIPTION:Learn techniques to help you to grow confidence in haircutting\, no matter the texture and type. Explore how each design element connects to get that final look. Leave this class understanding the basic principles in building a precision haircut. Plus\, don’t miss L’ANZA’s special looks at the most in-demand\, Instagram-worthy red looks and how to achieve them. \nTuition: $20 \nCall MAKA Beauty Systems at 480-968-7980 to register or register at https://shop.makabeauty.com/
URL:https://maka.wpsplit.com/education-details/lanza-shape-shifting-cuts-trending-reds-2/
LOCATION:MAKA Scottsdale\, 10636 N. 71st Way\, #10-11\, Scottsdale\, 85254\, United States
CATEGORIES:Haircolor,Trends & Techniques
ATTACH;FMTTYPE=image/jpeg:https://maka.wpsplit.com/files/2020/01/lanza_shap_shifter_reds.jpg
END:VEVENT
BEGIN:VEVENT
DTSTART;TZID=UTC:20200224T100000
DTEND;TZID=UTC:20200224T170000
DTSTAMP:20260420T024826
CREATED:20200113T224149Z
LAST-MODIFIED:20200113T224149Z
UID:2576-1582538400-1582563600@maka.wpsplit.com
SUMMARY:Solutions with Babe
DESCRIPTION:AM Tape & Beads – 10A-1PPM Fusion/Microfusion Tape & Beads – 2P-5P  Grow your services by offering solutions your clients need! Babe’s individual method courses allow for hands-in learning and applications. In these courses you will learn installation\, removal\, cutting and blending\, proper client maintenance for longevity as well as discuss pricing and marketing.  Tuition: $50 per class OR Attend both classes for just $75!  Call MAKA Beauty Systems at 480-968-7980 to register or register at https://shop.makabeauty.com/
URL:https://maka.wpsplit.com/education-details/solutions-with-babe/
LOCATION:MAKA Chandler\, 4042 W. Kitty Hawk\, Chandler\, AZ\, 85226\, United States
CATEGORIES:Business Building,Trends & Techniques
ATTACH;FMTTYPE=image/jpeg:https://maka.wpsplit.com/files/2019/04/babe_fusion.jpg
END:VEVENT
END:VCALENDAR