BEGIN:VCALENDAR
VERSION:2.0
PRODID:-//MAKA - ECPv6.15.13.1//NONSGML v1.0//EN
CALSCALE:GREGORIAN
METHOD:PUBLISH
X-ORIGINAL-URL:https://maka.wpsplit.com
X-WR-CALDESC:Events for MAKA
REFRESH-INTERVAL;VALUE=DURATION:PT1H
X-Robots-Tag:noindex
X-PUBLISHED-TTL:PT1H
BEGIN:VTIMEZONE
TZID:UTC
BEGIN:STANDARD
TZOFFSETFROM:+0000
TZOFFSETTO:+0000
TZNAME:UTC
DTSTART:20180101T000000
END:STANDARD
END:VTIMEZONE
BEGIN:VEVENT
DTSTART;VALUE=DATE:20191208
DTEND;VALUE=DATE:20191210
DTSTAMP:20260419T180634
CREATED:20190402T173938Z
LAST-MODIFIED:20191002T192135Z
UID:2253-1575763200-1575935999@maka.wpsplit.com
SUMMARY:Babe Things Mastery Tour
DESCRIPTION:NOW INCLUDES WEFT CERTIFICATION! \n Are you ready to increase opportunities to help your existing clients by offering them thinning hair\, volumizing and age related solutions? This course is the program designed just for that!  \nOfficial certification from Babe Hair Extensions in:\nI-Tip\, Flat Tip\, Tape-In\, Fusion & Hand Tied Weft applications!  \n• One-on-one professional attention from a team of experienced educators  \n• A comprehensive Master Kit with $525 worth of tools  \n• The confidence and skills you need for a flourishing hair extension practice in your salon  \n  \nTuition $499* (Includes a comprehensive Master Kit with $525 worth of tools and lunch on both days)\nPayment plans are available. Call 480-968-7980 for details. \n  \nDeluxe Kit Includes: Quick Pick\,Loop Tool\, Deluxe Tool\, Classic Tool\, Melting Connector\, Protective Discs \,Velcro Hair Grippers\, Fusion Bond Cutter\, Swatch Ring\, Replacement & Single Sided Tape\, TapeIn & Keratin Bond Remover\, Re-bonds\, Silicone Beads\, Sewing Needles\, Thread\, Stork Shears\, Small Clips\, Weft Adhesive & Practice Hair For All Methods. \n  \nSchedule: 9A-5P on both days \n  \nCall MAKA at 480-968-7980 to register.
URL:https://maka.wpsplit.com/education-details/babe-things-mastery-tour-4/
LOCATION:MAKA Scottsdale\, 10636 N. 71st Way\, #10-11\, Scottsdale\, 85254\, United States
CATEGORIES:Special Events
ATTACH;FMTTYPE=image/jpeg:https://maka.wpsplit.com/files/2019/02/babe_solutions.jpg
END:VEVENT
END:VCALENDAR