BEGIN:VCALENDAR
VERSION:2.0
PRODID:-//MAKA - ECPv6.15.13.1//NONSGML v1.0//EN
CALSCALE:GREGORIAN
METHOD:PUBLISH
X-WR-CALNAME:MAKA
X-ORIGINAL-URL:https://maka.wpsplit.com
X-WR-CALDESC:Events for MAKA
REFRESH-INTERVAL;VALUE=DURATION:PT1H
X-Robots-Tag:noindex
X-PUBLISHED-TTL:PT1H
BEGIN:VTIMEZONE
TZID:UTC
BEGIN:STANDARD
TZOFFSETFROM:+0000
TZOFFSETTO:+0000
TZNAME:UTC
DTSTART:20180101T000000
END:STANDARD
END:VTIMEZONE
BEGIN:VEVENT
DTSTART;TZID=UTC:20190916T100000
DTEND;TZID=UTC:20190916T130000
DTSTAMP:20260419T132229
CREATED:20190710T222639Z
LAST-MODIFIED:20190710T225022Z
UID:2405-1568628000-1568638800@maka.wpsplit.com
SUMMARY:The Business of Bridal Styling & Updos
DESCRIPTION:Presented by Sabrina Miller-Castillo! \n\n\n \n\n\nLearn professional tricks on how to create and keep in place beautiful curls\, waves and glamorous braids. This class will focus on the behind the scenes of the bridal business; how to be successful and charge accordingly. A closer look at the contents of a professional artist’s kit plus tips on choosing the proper tools\, ingredients\, and products for your own kit. Then\, secrets to long-lasting hold or how to set the hairstyle.\n\n\n \n\n\nTuition: $25\n\n\n \n\n\nCall MAKA at 480-968-7980 to register
URL:https://maka.wpsplit.com/education-details/the-business-of-bridal-styling-updos/
LOCATION:MAKA Chandler\, 4042 W. Kitty Hawk\, Chandler\, AZ\, 85226\, United States
CATEGORIES:Business Building,Upstyling
ATTACH;FMTTYPE=image/jpeg:https://maka.wpsplit.com/files/2019/07/sabrina_upstyles.jpg
END:VEVENT
BEGIN:VEVENT
DTSTART;TZID=UTC:20190916T100000
DTEND;TZID=UTC:20190916T160000
DTSTAMP:20260419T132229
CREATED:20190701T200300Z
LAST-MODIFIED:20190701T200300Z
UID:2381-1568628000-1568649600@maka.wpsplit.com
SUMMARY:Schwarzkopf Professional Vibrant Transformations
DESCRIPTION:Schwarzkopf Professional IGORA Vibrance Come and learn how to utilize new and vibrant demi-permanent liquid hair color\, IGORA VIBRANCE\, in so many ways! Class covers pre-pigmenting\, toning\, dual application service\, and so much more. Don’t miss the opportunity to take one liquid color and make it work for you in multiple ways you never knew possible. \nFor tickets please call 844-827-5338 or email ASKEducationUSA@Henkel.com.
URL:https://maka.wpsplit.com/education-details/schwarzkopf-professional-vibrant-transformations/
LOCATION:MAKA Glendale\, 5930 W. Greenway Road Suite 12\, Glendale\,\, AZ\, 85306\, United States
CATEGORIES:Haircolor,Special Events
ATTACH;FMTTYPE=image/jpeg:https://maka.wpsplit.com/files/2019/07/skp_vibrance_model.jpg
ORGANIZER;CN="Schwarzkopf Professional":MAILTO:ASKEducationUSA@Henkel.com
END:VEVENT
END:VCALENDAR