BEGIN:VCALENDAR
VERSION:2.0
PRODID:-//MAKA - ECPv6.15.13.1//NONSGML v1.0//EN
CALSCALE:GREGORIAN
METHOD:PUBLISH
X-ORIGINAL-URL:https://maka.wpsplit.com
X-WR-CALDESC:Events for MAKA
REFRESH-INTERVAL;VALUE=DURATION:PT1H
X-Robots-Tag:noindex
X-PUBLISHED-TTL:PT1H
BEGIN:VTIMEZONE
TZID:UTC
BEGIN:STANDARD
TZOFFSETFROM:+0000
TZOFFSETTO:+0000
TZNAME:UTC
DTSTART:20180101T000000
END:STANDARD
END:VTIMEZONE
BEGIN:VEVENT
DTSTART;TZID=UTC:20190826T100000
DTEND;TZID=UTC:20190826T140000
DTSTAMP:20260419T144704
CREATED:20190701T192939Z
LAST-MODIFIED:20190701T192939Z
UID:2373-1566813600-1566828000@maka.wpsplit.com
SUMMARY:Solutions Using Babe: Tape-in & Beaded
DESCRIPTION:Grow your services by offering solutions your clients need! Babe’s individual method courses allow for hands-in learning and applications. In these courses you will learn installation\, removal\, cutting and blending\, proper client maintenance for longevity as well as discuss pricing and marketing. \nTape-In/Beaded Extensions \nTuition $50  \nCall MAKA at 480-968-7980 to register
URL:https://maka.wpsplit.com/education-details/solutions-using-babe-tape-in-beaded/
LOCATION:MAKA Scottsdale\, 10636 N. 71st Way\, #10-11\, Scottsdale\, 85254\, United States
CATEGORIES:Styling,Trends & Techniques
ATTACH;FMTTYPE=image/jpeg:https://maka.wpsplit.com/files/2019/02/babe_fusion.jpg
END:VEVENT
END:VCALENDAR