BEGIN:VCALENDAR
VERSION:2.0
PRODID:-//MAKA - ECPv6.15.13.1//NONSGML v1.0//EN
CALSCALE:GREGORIAN
METHOD:PUBLISH
X-WR-CALNAME:MAKA
X-ORIGINAL-URL:https://maka.wpsplit.com
X-WR-CALDESC:Events for MAKA
REFRESH-INTERVAL;VALUE=DURATION:PT1H
X-Robots-Tag:noindex
X-PUBLISHED-TTL:PT1H
BEGIN:VTIMEZONE
TZID:UTC
BEGIN:STANDARD
TZOFFSETFROM:+0000
TZOFFSETTO:+0000
TZNAME:UTC
DTSTART:20180101T000000
END:STANDARD
END:VTIMEZONE
BEGIN:VEVENT
DTSTART;TZID=UTC:20190819T090000
DTEND;TZID=UTC:20190819T170000
DTSTAMP:20260419T144730
CREATED:20190513T180441Z
LAST-MODIFIED:20190513T180441Z
UID:2337-1566205200-1566234000@maka.wpsplit.com
SUMMARY:Get Certified in BABE Hand-Tied Weft Extensions
DESCRIPTION:Only $399 \nIncludes certification and a starter kit \nCome learn the quickest\, best approach\, for applying seamless weft extensions\, while still focusing on preserving the integrity of your client’s hair! Brought to you by Babe\, the Top Professional Extension brand in North America! \nWhy Weft Extensions? \n\nLow stress on client’s hair\nNo chemicals or heat\nEasy installation & removal\nMake more money in less time\n\n  \nPro Tool Kit Includes: Quick Pick\, Loop Tool\, Deluxe Tool\, Clips\, Velcro Hair Grippers\, Swatch Ring\, Needles\, Thread\, Silicone Beads\, Stork Shears\, Mannequin\, Stand & Practice Weft Hair (value of $250) \nLunch Provided ~ \nPlease bring your combs\, clips\, cutting tools\, notepad & pen \nReady to get started? \nRegister directly with BABE at: \nhttps://babethings.com/products/weft-certification?variant=15906417508395
URL:https://maka.wpsplit.com/education-details/get-certified-in-babe-hand-tied-weft-extensions/
LOCATION:Doubletree Phoenix\, 320 N 44th Street\, Phoenix\, AZ\, 85008\, United States
CATEGORIES:Business Building,Special Events,Trends & Techniques
ATTACH;FMTTYPE=image/png:https://maka.wpsplit.com/files/2019/05/babe_flyer_graphic.png
END:VEVENT
BEGIN:VEVENT
DTSTART;TZID=UTC:20190819T100000
DTEND;TZID=UTC:20190819T120000
DTSTAMP:20260419T144730
CREATED:20190701T204836Z
LAST-MODIFIED:20190701T204836Z
UID:2401-1566208800-1566216000@maka.wpsplit.com
SUMMARY:B3 Brazilian Blowout Become a 6 Figure Stylist
DESCRIPTION:Grab your besties for this Brazilian Blowout event! \nLook and Learn Demonstrations of the Brazilian Blowout smoothing system on live models\, see what’s new from Brazilian Professional and experience their full portfolio of products. \nThis event has a b3 focus! \nTuition is FREE but registration is required. \nCall MAKA at 480-968-7980 to register!
URL:https://maka.wpsplit.com/education-details/b3-brazilian-blowout-become-a-6-figure-stylist/
LOCATION:MAKA Tucson\, 3959 E Speedway Blvd Suite #308\, Tucson\, AZ\, 85712\, United States
CATEGORIES:Retexturizing,Trends & Techniques
ATTACH;FMTTYPE=image/jpeg:https://maka.wpsplit.com/files/2019/04/bb_six_figure.jpg
END:VEVENT
BEGIN:VEVENT
DTSTART;TZID=UTC:20190819T100000
DTEND;TZID=UTC:20190819T130000
DTSTAMP:20260419T144730
CREATED:20181219T231702Z
LAST-MODIFIED:20190701T191224Z
UID:2056-1566208800-1566219600@maka.wpsplit.com
SUMMARY:Viral Braids with amika
DESCRIPTION:Ever wish you could recreate all these hot braids flooding your timeline? This is the class for you. Insta-famous looks are deconstructed and taught “from the crown” for a simplified yet intense learning experience\, which will leave you ready to take your skills to the next level. From accent braids and tribal inspired looks to statement braids\, these advanced looks are easily customizable and photo-ready\, guaranteed to get you likes. \n  \nTuition $30; \n  \nCall MAKA at 480-968-7980 to register.
URL:https://maka.wpsplit.com/education-details/viral-braids-with-amika-4/
LOCATION:MAKA Chandler\, 4042 W. Kitty Hawk\, Chandler\, AZ\, 85226\, United States
CATEGORIES:Styling,Trends & Techniques,Upstyling
ATTACH;FMTTYPE=image/jpeg:https://maka.wpsplit.com/files/2018/12/amika_braids.jpg
END:VEVENT
BEGIN:VEVENT
DTSTART;TZID=UTC:20190819T100000
DTEND;TZID=UTC:20190819T150000
DTSTAMP:20260419T144730
CREATED:20190429T194449Z
LAST-MODIFIED:20190429T194449Z
UID:2315-1566208800-1566226800@maka.wpsplit.com
SUMMARY:Schwarzkopf Bold Blondes
DESCRIPTION:An immersion into blonding and bonding \nSchwarzkopf Professional will take you through their portfolio of lighteners and lifting creams that all have integrated bonding technology built into them. You’ll learn important techniques that create seamless blondes. \nTuition $50 \nFor tickets please call 844-827-5338 or email ASKEducationUSA@Henkel.com.
URL:https://maka.wpsplit.com/education-details/schwarzkopf-bold-blondes-5/
LOCATION:MAKA Salt Lake City\, 2585 S. State Street\, Suite A\, South Salt Lake\, UT\, 84115\, United States
CATEGORIES:Haircolor,Trends & Techniques
ATTACH;FMTTYPE=image/jpeg:https://maka.wpsplit.com/files/2019/04/skp_bold_blondes.jpg
ORGANIZER;CN="Schwarzkopf Professional":MAILTO:ASKEducationUSA@Henkel.com
END:VEVENT
END:VCALENDAR