BEGIN:VCALENDAR
VERSION:2.0
PRODID:-//MAKA - ECPv6.15.13.1//NONSGML v1.0//EN
CALSCALE:GREGORIAN
METHOD:PUBLISH
X-ORIGINAL-URL:https://maka.wpsplit.com
X-WR-CALDESC:Events for MAKA
REFRESH-INTERVAL;VALUE=DURATION:PT1H
X-Robots-Tag:noindex
X-PUBLISHED-TTL:PT1H
BEGIN:VTIMEZONE
TZID:UTC
BEGIN:STANDARD
TZOFFSETFROM:+0000
TZOFFSETTO:+0000
TZNAME:UTC
DTSTART:20180101T000000
END:STANDARD
END:VTIMEZONE
BEGIN:VEVENT
DTSTART;TZID=UTC:20190805T100000
DTEND;TZID=UTC:20190805T150000
DTSTAMP:20260419T132143
CREATED:20190429T190346Z
LAST-MODIFIED:20190429T190346Z
UID:2307-1564999200-1565017200@maka.wpsplit.com
SUMMARY:Schwarzkopf Bold Blondes
DESCRIPTION:An immersion into blonding and bonding \nSchwarzkopf Professional will take you through their portfolio of lighteners and lifting creams that all have integrated bonding technology built into them. You’ll learn important techniques that create seamless blondes. \nTuition $50 \nFor tickets please call 844-827-5338 or email ASKEducationUSA@Henkel.com.
URL:https://maka.wpsplit.com/education-details/schwarzkopf-bold-blondes-4/
LOCATION:MAKA Albuquerque\, 2511 San Mateo Blvd NE\, Albuquerque\, 87110\, United States
CATEGORIES:Haircolor,Trends & Techniques
ATTACH;FMTTYPE=image/jpeg:https://maka.wpsplit.com/files/2019/04/skp_bold_blondes.jpg
ORGANIZER;CN="Schwarzkopf Professional":MAILTO:ASKEducationUSA@Henkel.com
END:VEVENT
END:VCALENDAR