BEGIN:VCALENDAR
VERSION:2.0
PRODID:-//MAKA - ECPv6.15.13.1//NONSGML v1.0//EN
CALSCALE:GREGORIAN
METHOD:PUBLISH
X-ORIGINAL-URL:https://maka.wpsplit.com
X-WR-CALDESC:Events for MAKA
REFRESH-INTERVAL;VALUE=DURATION:PT1H
X-Robots-Tag:noindex
X-PUBLISHED-TTL:PT1H
BEGIN:VTIMEZONE
TZID:UTC
BEGIN:STANDARD
TZOFFSETFROM:+0000
TZOFFSETTO:+0000
TZNAME:UTC
DTSTART:20180101T000000
END:STANDARD
END:VTIMEZONE
BEGIN:VEVENT
DTSTART;TZID=UTC:20190729T100000
DTEND;TZID=UTC:20190729T120000
DTSTAMP:20260419T132156
CREATED:20190701T203558Z
LAST-MODIFIED:20190701T203558Z
UID:2396-1564394400-1564401600@maka.wpsplit.com
SUMMARY:L'ANZA Intro to Healing Color
DESCRIPTION:L’ANZA Healing Color HEALS\, SEALS & PROTECTS through exclusive Color Attachment Technology\, infusing hair with rich\, long-lasting color. Join L’ANZA for this special presentation and learn how this versatile 3-in-1 haircolor can be formulated to create stunning Permanent\, Demi-Permanent and Translucent results. \nTuition: FREE (registration required) \nCall MAKA at 480-968-7980 to register
URL:https://maka.wpsplit.com/education-details/lanza-intro-to-healing-color/
LOCATION:MAKA Prescott\, 723 E. Gurley Street\, Prescott\, AZ\, 86303\, United States
CATEGORIES:Haircolor
ATTACH;FMTTYPE=image/jpeg:https://maka.wpsplit.com/files/2019/07/lanza_healing_color_Class.jpg
END:VEVENT
END:VCALENDAR